BEGIN:VCALENDAR
VERSION:2.0
PRODID:-//Munkbrarup.de - ECPv6.0.10//NONSGML v1.0//EN
CALSCALE:GREGORIAN
METHOD:PUBLISH
X-WR-CALNAME:Munkbrarup.de
X-ORIGINAL-URL:https://wp.munkbrarup.de
X-WR-CALDESC:Veranstaltungen für Munkbrarup.de
REFRESH-INTERVAL;VALUE=DURATION:PT1H
X-Robots-Tag:noindex
X-PUBLISHED-TTL:PT1H
BEGIN:VTIMEZONE
TZID:Europe/Berlin
BEGIN:DAYLIGHT
TZOFFSETFROM:+0100
TZOFFSETTO:+0200
TZNAME:CEST
DTSTART:20240331T010000
END:DAYLIGHT
BEGIN:STANDARD
TZOFFSETFROM:+0200
TZOFFSETTO:+0100
TZNAME:CET
DTSTART:20241027T010000
END:STANDARD
END:VTIMEZONE
BEGIN:VEVENT
DTSTART;TZID=Europe/Berlin:20240613T190000
DTEND;TZID=Europe/Berlin:20240613T190000
DTSTAMP:20260424T035147
CREATED:20240512T191506Z
LAST-MODIFIED:20240512T191506Z
UID:2338-1718305200-1718305200@wp.munkbrarup.de
SUMMARY:Lesung Christa Iversen
DESCRIPTION:
URL:https://wp.munkbrarup.de/event/lesung-christa-iversen/
LOCATION:Mühle Munkbrarup\, Auberg 6\, Munkbrarup\, Deutschland\, 24960\, Deutschland
END:VEVENT
END:VCALENDAR