BEGIN:VCALENDAR
VERSION:2.0
PRODID:-//Munkbrarup.de - ECPv6.0.10//NONSGML v1.0//EN
CALSCALE:GREGORIAN
METHOD:PUBLISH
X-ORIGINAL-URL:https://wp.munkbrarup.de
X-WR-CALDESC:Veranstaltungen für Munkbrarup.de
REFRESH-INTERVAL;VALUE=DURATION:PT1H
X-Robots-Tag:noindex
X-PUBLISHED-TTL:PT1H
BEGIN:VTIMEZONE
TZID:Europe/Berlin
BEGIN:DAYLIGHT
TZOFFSETFROM:+0100
TZOFFSETTO:+0200
TZNAME:CEST
DTSTART:20240331T010000
END:DAYLIGHT
BEGIN:STANDARD
TZOFFSETFROM:+0200
TZOFFSETTO:+0100
TZNAME:CET
DTSTART:20241027T010000
END:STANDARD
END:VTIMEZONE
BEGIN:VEVENT
DTSTART;TZID=Europe/Berlin:20240626T170000
DTEND;TZID=Europe/Berlin:20240626T170000
DTSTAMP:20260423T071601
CREATED:20240612T085358Z
LAST-MODIFIED:20240612T085358Z
UID:2349-1719421200-1719421200@wp.munkbrarup.de
SUMMARY:Taiji-Qigong
DESCRIPTION:Taiji-Qigong – die 18fache Bewegungsfolge\nerlebe wie Taiji-Qigong Dir Wohlbefinden schenkt.\n18 harmonische Bewegungsfolgen\, die man bis ins hohe Alter erlernen und ausüben kann.\nTaiji Qigong wird aufgrund seiner Wirkung auch in vielen Kliniken gelehrt. Die 18 Übungen\nverhelfen zu mehr Vitalität\, kräftigt auf schonende Weise die Muskeln\, stärkt die Gelenke\nund den Kreislauf\, regt die inneren Organe an\, führt zu einem Ausgleich des Blutdrucks\,\nfördert einen gesunden Schlaf und beruhigt den Geist. \nIn der Zeit vom 22.05.24 bis zum 28.08.24 kannst Du mittwochs von 17:00 –\n17:45 Uhr in Rüde bei Glücksburg auf dem Rasen hinter dem Feuerwehrhaus\nGlücksburger Str. 11 bei dieser Übungsfolge mit vorbereitenden Lockerungs-\nübungen\, egal ob mit oder ohne Vorkenntnisse\, etwas Gutes für Dich tun.\nBei starkem Regen fällt es aus. \nAnmeldung bitte unter 0160/ 50 13 8 17\noder herrmann.carstensen@t-online.de\nIch freue mich auf Euch \nUwe \n  \nDie Teilnahme ist kostenlos\, wer möchte darf etwas spenden
URL:https://wp.munkbrarup.de/event/taiji-qigong-3/
END:VEVENT
END:VCALENDAR