BEGIN:VCALENDAR
VERSION:2.0
PRODID:-//Munkbrarup.de - ECPv6.0.10//NONSGML v1.0//EN
CALSCALE:GREGORIAN
METHOD:PUBLISH
X-ORIGINAL-URL:https://wp.munkbrarup.de
X-WR-CALDESC:Veranstaltungen für Munkbrarup.de
REFRESH-INTERVAL;VALUE=DURATION:PT1H
X-Robots-Tag:noindex
X-PUBLISHED-TTL:PT1H
BEGIN:VTIMEZONE
TZID:Europe/Berlin
BEGIN:DAYLIGHT
TZOFFSETFROM:+0100
TZOFFSETTO:+0200
TZNAME:CEST
DTSTART:20240331T010000
END:DAYLIGHT
BEGIN:STANDARD
TZOFFSETFROM:+0200
TZOFFSETTO:+0100
TZNAME:CET
DTSTART:20241027T010000
END:STANDARD
END:VTIMEZONE
BEGIN:VEVENT
DTSTART;TZID=Europe/Berlin:20241105T143000
DTEND;TZID=Europe/Berlin:20241105T163000
DTSTAMP:20260422T172957
CREATED:20241001T154847Z
LAST-MODIFIED:20241001T155050Z
UID:2372-1730817000-1730824200@wp.munkbrarup.de
SUMMARY:öffentliche Seniorenbeiratssitzung
DESCRIPTION:
URL:https://wp.munkbrarup.de/event/spielenachmittag-fuer-senioren-und-seniorinnen/
LOCATION:Dörpshus\, Dörpshus\, Munkbrarup\, 24960\, Deutschland
END:VEVENT
END:VCALENDAR