BEGIN:VCALENDAR
VERSION:2.0
PRODID:-//Munkbrarup.de - ECPv6.0.10//NONSGML v1.0//EN
CALSCALE:GREGORIAN
METHOD:PUBLISH
X-WR-CALNAME:Munkbrarup.de
X-ORIGINAL-URL:https://wp.munkbrarup.de
X-WR-CALDESC:Veranstaltungen für Munkbrarup.de
REFRESH-INTERVAL;VALUE=DURATION:PT1H
X-Robots-Tag:noindex
X-PUBLISHED-TTL:PT1H
BEGIN:VTIMEZONE
TZID:Europe/Berlin
BEGIN:DAYLIGHT
TZOFFSETFROM:+0100
TZOFFSETTO:+0200
TZNAME:CEST
DTSTART:20240331T010000
END:DAYLIGHT
BEGIN:STANDARD
TZOFFSETFROM:+0200
TZOFFSETTO:+0100
TZNAME:CET
DTSTART:20241027T010000
END:STANDARD
END:VTIMEZONE
BEGIN:VEVENT
DTSTART;TZID=Europe/Berlin:20241126T150000
DTEND;TZID=Europe/Berlin:20241126T170000
DTSTAMP:20260422T154108
CREATED:20241001T155830Z
LAST-MODIFIED:20241001T160102Z
UID:2383-1732633200-1732640400@wp.munkbrarup.de
SUMMARY:Weihnachtsfeier Für Seniorinnen und Senioren
DESCRIPTION:Anmeldung bis zum 15. Nov. 2024 bei Timm Heinrich\, Tel.: 04631-8166
URL:https://wp.munkbrarup.de/event/weihnachtsfeier-fuer-seniorinnen-und-senioren/
LOCATION:Dörpshus\, Dörpshus\, Munkbrarup\, 24960\, Deutschland
END:VEVENT
END:VCALENDAR