BEGIN:VCALENDAR
VERSION:2.0
PRODID:-//Munkbrarup.de - ECPv6.0.10//NONSGML v1.0//EN
CALSCALE:GREGORIAN
METHOD:PUBLISH
X-ORIGINAL-URL:https://wp.munkbrarup.de
X-WR-CALDESC:Veranstaltungen für Munkbrarup.de
REFRESH-INTERVAL;VALUE=DURATION:PT1H
X-Robots-Tag:noindex
X-PUBLISHED-TTL:PT1H
BEGIN:VTIMEZONE
TZID:Europe/Berlin
BEGIN:DAYLIGHT
TZOFFSETFROM:+0100
TZOFFSETTO:+0200
TZNAME:CEST
DTSTART:20250330T010000
END:DAYLIGHT
BEGIN:STANDARD
TZOFFSETFROM:+0200
TZOFFSETTO:+0100
TZNAME:CET
DTSTART:20251026T010000
END:STANDARD
END:VTIMEZONE
BEGIN:VEVENT
DTSTART;TZID=Europe/Berlin:20250226T190000
DTEND;TZID=Europe/Berlin:20250226T210000
DTSTAMP:20260420T122010
CREATED:20250213T145441Z
LAST-MODIFIED:20250213T153930Z
UID:2431-1740596400-1740603600@wp.munkbrarup.de
SUMMARY:Gemeindevertretung Munkbrarup
DESCRIPTION:https://langballig.ris-portal.de/web/guest/sitzungen?sitzungId=162204
URL:https://wp.munkbrarup.de/event/gemeindevertretung-munkbrarup/
LOCATION:Dörpshus Munkbrarup\, Sankt Laurentiusweg 26\, Munkbrarup\, Deutschland\, 24960\, Deutschland
END:VEVENT
END:VCALENDAR