BEGIN:VCALENDAR
VERSION:2.0
PRODID:-//Munkbrarup.de - ECPv6.0.10//NONSGML v1.0//EN
CALSCALE:GREGORIAN
METHOD:PUBLISH
X-WR-CALNAME:Munkbrarup.de
X-ORIGINAL-URL:https://wp.munkbrarup.de
X-WR-CALDESC:Veranstaltungen für Munkbrarup.de
REFRESH-INTERVAL;VALUE=DURATION:PT1H
X-Robots-Tag:noindex
X-PUBLISHED-TTL:PT1H
BEGIN:VTIMEZONE
TZID:Europe/Berlin
BEGIN:DAYLIGHT
TZOFFSETFROM:+0100
TZOFFSETTO:+0200
TZNAME:CEST
DTSTART:20250330T010000
END:DAYLIGHT
BEGIN:STANDARD
TZOFFSETFROM:+0200
TZOFFSETTO:+0100
TZNAME:CET
DTSTART:20251026T010000
END:STANDARD
END:VTIMEZONE
BEGIN:VEVENT
DTSTART;TZID=Europe/Berlin:20250308T183000
DTEND;TZID=Europe/Berlin:20250308T220000
DTSTAMP:20260420T105432
CREATED:20250213T150812Z
LAST-MODIFIED:20250213T150812Z
UID:2436-1741458600-1741471200@wp.munkbrarup.de
SUMMARY:Frauen Filmabend
DESCRIPTION:Einladung zum Frauen-Filmabend \n  \nLiebe Frauen in der Gemeinde Munkbrarup\, \nam 8. März ist der Internationale Frauentag. Aus diesem Anlass laden wir herzlich zu einem Filmabend für Frauen ein. \nSamstag\, 8. März ab 18.30 h Dörpshus Munkbrarup\, St. Laurentiusweg 26. \nDa die Anzahl der Plätze begrenzt ist\, bitten wir um Anmeldung unter \nkultur.munkbrarup@gmail.com \n(nur für Einwohnerinnen der Gemeinde!) \nWir zeigen den Film „Grüne Tomaten“ und für das leibliche Wohl sorgen leckere Brote\, Dips und Getränke. Zeit für einen Schnack ist auch vorhanden. Wir freuen uns auf Euch! \n  \nFür die AG Kultur:                                                          Für die Gemeinde \ngez. Christa Iversen                                                       gez. Claudia Meincke\, Bürgermeisterin \n 
URL:https://wp.munkbrarup.de/event/frauen-filmabend/
END:VEVENT
BEGIN:VEVENT
DTSTART;TZID=Europe/Berlin:20250315T100000
DTEND;TZID=Europe/Berlin:20250315T130000
DTSTAMP:20260420T105432
CREATED:20250305T203212Z
LAST-MODIFIED:20250305T203212Z
UID:2458-1742032800-1742043600@wp.munkbrarup.de
SUMMARY:Schietsammelaktion 2025
DESCRIPTION:
URL:https://wp.munkbrarup.de/event/schietsammelaktion-2025/
LOCATION:Dörpshus Munkbrarup\, Sankt Laurentiusweg 26\, Munkbrarup\, Deutschland\, 24960\, Deutschland
END:VEVENT
BEGIN:VEVENT
DTSTART;TZID=Europe/Berlin:20250318T150000
DTEND;TZID=Europe/Berlin:20250318T163000
DTSTAMP:20260420T105432
CREATED:20250211T152230Z
LAST-MODIFIED:20250211T152230Z
UID:2414-1742310000-1742315400@wp.munkbrarup.de
SUMMARY:Vorsicht Enkeltrick
DESCRIPTION:weiter Infos: https://wp.munkbrarup.de/veranstaltung-vorsicht-enkeltrick/
URL:https://wp.munkbrarup.de/event/vorsicht-enkeltrick/
LOCATION:Dörpshus Munkbrarup\, Sankt Laurentiusweg 26\, Munkbrarup\, Deutschland\, 24960\, Deutschland
END:VEVENT
END:VCALENDAR