BEGIN:VCALENDAR
VERSION:2.0
PRODID:-//Munkbrarup.de - ECPv6.0.10//NONSGML v1.0//EN
CALSCALE:GREGORIAN
METHOD:PUBLISH
X-WR-CALNAME:Munkbrarup.de
X-ORIGINAL-URL:https://wp.munkbrarup.de
X-WR-CALDESC:Veranstaltungen für Munkbrarup.de
REFRESH-INTERVAL;VALUE=DURATION:PT1H
X-Robots-Tag:noindex
X-PUBLISHED-TTL:PT1H
BEGIN:VTIMEZONE
TZID:Europe/Berlin
BEGIN:DAYLIGHT
TZOFFSETFROM:+0100
TZOFFSETTO:+0200
TZNAME:CEST
DTSTART:20250330T010000
END:DAYLIGHT
BEGIN:STANDARD
TZOFFSETFROM:+0200
TZOFFSETTO:+0100
TZNAME:CET
DTSTART:20251026T010000
END:STANDARD
END:VTIMEZONE
BEGIN:VEVENT
DTSTART;TZID=Europe/Berlin:20250411T190000
DTEND;TZID=Europe/Berlin:20250411T190000
DTSTAMP:20260420T084504
CREATED:20250226T094102Z
LAST-MODIFIED:20250226T094102Z
UID:2452-1744398000-1744398000@wp.munkbrarup.de
SUMMARY:Vortrag Falknerei Nordfriesland
DESCRIPTION:In Zusammenarbeit mit dem Naturschutzbund und der AG Kultur konnten wir Frau Hamann für einen Vortrag gewinnen. \nSie wird einen Vortrag über ihre Falknerei halten\, auch ihre zwei Falken sind dabei. \n  \nWeitere Infos auf:https://www.falknerei-nordfriesland.de/  \n  \nHutveranstaltung\, kein Eintritt!
URL:https://wp.munkbrarup.de/event/vortrag-falknerei-nordfriesland/
LOCATION:Dörpshus Munkbrarup\, Sankt Laurentiusweg 26\, Munkbrarup\, Deutschland\, 24960\, Deutschland
END:VEVENT
BEGIN:VEVENT
DTSTART;TZID=Europe/Berlin:20250419T150000
DTEND;TZID=Europe/Berlin:20250419T170000
DTSTAMP:20260420T084504
CREATED:20250213T155044Z
LAST-MODIFIED:20250213T155044Z
UID:2448-1745074800-1745082000@wp.munkbrarup.de
SUMMARY:Oster Schnitzeljagd
DESCRIPTION:Für Kinder bis 12 Jahre (Elternbegleitung willkommen) \nStart und Ziel: Dörpshus Munkbrarup \ndie einzelnen Station werden betreut \nUm Anmeldung wird gebeten: kultur.munkbrarup@gmail.com
URL:https://wp.munkbrarup.de/event/oster-schnitzeljagd/
LOCATION:Dörpshus Munkbrarup\, Sankt Laurentiusweg 26\, Munkbrarup\, Deutschland\, 24960\, Deutschland
END:VEVENT
END:VCALENDAR